BEGIN:VCALENDAR
VERSION:2.0
PRODID:icalendar-ruby
CALSCALE:GREGORIAN
METHOD:PUBLISH
BEGIN:VEVENT
DTSTAMP:20260421T191817Z
UID:79-1118660@calvarymonument.org
DTSTART:20260926T113000Z
DTEND:20260926T123000Z
CLASS:PUBLIC
CREATED:20260421T132235
DESCRIPTION:Men are invited to gather and pray together
LAST-MODIFIED:20260421T132235
LOCATION:Calvary Monument Bible Church\, 1660 Mine Road\, Paradise\, PA 175
 62
SUMMARY:Men's Prayer Group
URL;VALUE=URI:https://www.calvarymonument.org/events/mens-prayer-group/2026
 -09-26
END:VEVENT
END:VCALENDAR
