BEGIN:VCALENDAR
VERSION:2.0
PRODID:icalendar-ruby
CALSCALE:GREGORIAN
METHOD:PUBLISH
BEGIN:VEVENT
DTSTAMP:20260421T205927Z
UID:79-1118827@calvarymonument.org
DTSTART:20261003T113000Z
DTEND:20261003T123000Z
CLASS:PUBLIC
CREATED:20260421T155837
DESCRIPTION:Men are invited to gather and pray together
LAST-MODIFIED:20260421T155837
LOCATION:Calvary Monument Bible Church\, 1660 Mine Road\, Paradise\, PA 175
 62
SUMMARY:Men's Prayer Group
URL;VALUE=URI:https://www.calvarymonument.org/events/mens-prayer-group/2026
 -10-03
END:VEVENT
END:VCALENDAR
