BEGIN:VCALENDAR
VERSION:2.0
PRODID:icalendar-ruby
CALSCALE:GREGORIAN
METHOD:PUBLISH
BEGIN:VEVENT
DTSTAMP:20260422T003349Z
UID:79-1118995@calvarymonument.org
DTSTART:20261017T113000Z
DTEND:20261017T123000Z
CLASS:PUBLIC
CREATED:20260421T183646
DESCRIPTION:Men are invited to gather and pray together
LAST-MODIFIED:20260421T183646
LOCATION:Calvary Monument Bible Church\, 1660 Mine Road\, Paradise\, PA 175
 62
SUMMARY:Men's Prayer Group
URL;VALUE=URI:https://www.calvarymonument.org/events/mens-prayer-group/2026
 -10-17
END:VEVENT
END:VCALENDAR
