BEGIN:VCALENDAR
VERSION:2.0
PRODID:icalendar-ruby
CALSCALE:GREGORIAN
METHOD:PUBLISH
BEGIN:VEVENT
DTSTAMP:20260422T022806Z
UID:79-1119162@calvarymonument.org
DTSTART:20261024T113000Z
DTEND:20261024T123000Z
CLASS:PUBLIC
CREATED:20260421T211536
DESCRIPTION:Men are invited to gather and pray together
LAST-MODIFIED:20260421T211536
LOCATION:Calvary Monument Bible Church\, 1660 Mine Road\, Paradise\, PA 175
 62
SUMMARY:Men's Prayer Group
URL;VALUE=URI:https://www.calvarymonument.org/events/mens-prayer-group/2026
 -10-24
END:VEVENT
END:VCALENDAR
